BEGIN:VCALENDAR
VERSION:2.0
CALSCALE:GREGORIAN
METHOD:PUBLISH
X-WR-TIMEZONE:Australia/Sydney
BEGIN:VTIMEZONE
TZID:Australia/Sydney
BEGIN:STANDARD
TZNAME:AEST
END:STANDARD
END:VTIMEZONE
BEGIN:VEVENT
DTSTART;TZID=Australia/Sydney:20260402T135000
DTEND;TZID=Australia/Sydney:20260402T143000
DTSTAMP:20260423T023230
UID:24
SUMMARY:Assembly including the Easter Raffle
DESCRIPTION:




Whole School Assembly including Easter RaffleEnd of Term dissmissal - 2:30pm


SEQUENCE:0
STATUS:CONFIRMED
TRANSP:OPAQUE
END:VEVENT
END:VCALENDAR